BEGIN:VCALENDAR
VERSION:2.0
PRODID:-//wp-events-plugin.com//7.2.3.1//EN
TZID:Europe/Berlin
X-WR-TIMEZONE:Europe/Berlin
BEGIN:VEVENT
UID:139@slfg.de
DTSTART;TZID=Europe/Berlin:20260923T090000
DTEND;TZID=Europe/Berlin:20260923T160000
DTSTAMP:20260120T091724Z
URL:https://www.slfg.de/veranstaltung/1-taegiges-mindmatters-fortbildungsa
 ngebot-in-bischofswerda-2/
SUMMARY:1-tägiges MindMatters-Fortbildungsangebot in Bischofswerda
DESCRIPTION:Wir laden Sie herzlich ein zum eintägigen MindMatters-Fortbild
 ungsangebot in Bischofswerda!
ATTACH;FMTTYPE=image/jpeg:https://www.slfg.de/files/2024/08/MindMatters-Lo
 go_10_2011_3x15cm300dpi.jpg
LOCATION:Netzwerk für Kinder– und Jugendarbeit e. V.\, Lutherstraße 13\
 , Bischofswerda\, 01877\, Deutschland
GEO:51.128048;14.173407
X-APPLE-STRUCTURED-LOCATION;VALUE=URI;X-ADDRESS=Lutherstraße 13\, Bischofs
 werda\, 01877\, Deutschland;X-APPLE-RADIUS=100;X-TITLE=Netzwerk für Kinde
 r– und Jugendarbeit e. V.:geo:51.128048,14.173407
END:VEVENT
BEGIN:VTIMEZONE
TZID:Europe/Berlin
X-LIC-LOCATION:Europe/Berlin
BEGIN:DAYLIGHT
DTSTART:20260329T030000
TZOFFSETFROM:+0100
TZOFFSETTO:+0200
TZNAME:CEST
END:DAYLIGHT
END:VTIMEZONE
END:VCALENDAR