BEGIN:VCALENDAR
VERSION:2.0
PRODID:-//wp-events-plugin.com//7.2.3.1//EN
TZID:Europe/Berlin
X-WR-TIMEZONE:Europe/Berlin
BEGIN:VEVENT
UID:137@slfg.de
DTSTART;TZID=Europe/Berlin:20261029T090000
DTEND;TZID=Europe/Berlin:20261029T160000
DTSTAMP:20260420T122532Z
URL:https://www.slfg.de/veranstaltung/16-kinder-garten-fachtagung/
SUMMARY:Kinder-Garten-Fachtagung
DESCRIPTION:Wir laden alle pädagogischen und technischen Fachkräfte herzl
 ich ein zur Kinder-Garten-Fachtagung.
CATEGORIES:Fachtagung
LOCATION:DGUV Akademie Dresden\, Königsbrücker Landstraße 2\, Dresden\, 
 01109\, Deutschland
GEO:51.106201;13.775345
X-APPLE-STRUCTURED-LOCATION;VALUE=URI;X-ADDRESS=Königsbrücker Landstraße
  2\, Dresden\, 01109\, Deutschland;X-APPLE-RADIUS=100;X-TITLE=DGUV Akademi
 e Dresden:geo:51.106201,13.775345
END:VEVENT
BEGIN:VTIMEZONE
TZID:Europe/Berlin
X-LIC-LOCATION:Europe/Berlin
BEGIN:STANDARD
DTSTART:20261025T020000
TZOFFSETFROM:+0200
TZOFFSETTO:+0100
TZNAME:CET
END:STANDARD
END:VTIMEZONE
END:VCALENDAR