BEGIN:VCALENDAR
VERSION:2.0
PRODID:-//wp-events-plugin.com//7.2.3.1//EN
TZID:Europe/Berlin
X-WR-TIMEZONE:Europe/Berlin
BEGIN:VEVENT
UID:136@slfg.de
DTSTART;TZID=Europe/Berlin:20260506T093000
DTEND;TZID=Europe/Berlin:20260506T110000
DTSTAMP:20260226T101052Z
URL:https://www.slfg.de/veranstaltung/workshop-blueten-essen-und-blaetter-
 trinken-ernaehrungsbildung-im-kindergarten-erleben/
SUMMARY:Workshop: Blüten essen und Blätter trinken – Ernährungsbildung
  im KinderGarten erleben
DESCRIPTION:Der digitale Workshop lädt ein\, den Blick auf essbare Pflanze
 n zu wenden und neben den bekannten Obst- und Gemüsesorten noch viele wei
 tere heimische Pflanzen zu entdecken\, deren Blüten\, Blätter und Früch
 te essbar sind.
ATTACH;FMTTYPE=image/jpeg:https://www.slfg.de/files/2025/09/VKS_Logo_farbi
 g-e1758198290447.png
END:VEVENT
BEGIN:VTIMEZONE
TZID:Europe/Berlin
X-LIC-LOCATION:Europe/Berlin
BEGIN:DAYLIGHT
DTSTART:20260329T030000
TZOFFSETFROM:+0100
TZOFFSETTO:+0200
TZNAME:CEST
END:DAYLIGHT
END:VTIMEZONE
END:VCALENDAR